BEGIN:VCALENDAR
VERSION:2.0
PRODID:-//wp-events-plugin.com//7.0.5//EN
TZID:Europe/Paris
X-WR-TIMEZONE:Europe/Paris
BEGIN:VEVENT
UID:3018@poussieredimage.com
DTSTART;TZID=Europe/Paris:20251021T200000
DTEND;TZID=Europe/Paris:20251021T220000
DTSTAMP:20251002T133905Z
URL:https://www.poussieredimage.com/events/accueil-des-nouveaux-adherents-
 quelles-activites-comment-participer/
SUMMARY:Accueil des nouveaux adhérents :  quelles activités\, comment par
 ticiper ?
DESCRIPTION:Cette soirée est plus particulièrement dédiée aux nouveaux 
 adhérents.\n\nNous leur présenterons :\n\n 	les différentes activités 
 proposées\,\n 	comment faire pour y participer.\n\nNous pourrons bien sû
 r aussi répondre à leurs questions.\n\nNico et François.
CATEGORIES:Divers
LOCATION:Videoconférence\, Sans\, Toulouse\, France
GEO:43.601457;1.440792
X-APPLE-STRUCTURED-LOCATION;VALUE=URI;X-ADDRESS=Sans\, Toulouse\, France;X-
 APPLE-RADIUS=100;X-TITLE=Videoconférence:geo:43.601457,1.440792
END:VEVENT
BEGIN:VTIMEZONE
TZID:Europe/Paris
X-LIC-LOCATION:Europe/Paris
BEGIN:DAYLIGHT
DTSTART:20250330T030000
TZOFFSETFROM:+0100
TZOFFSETTO:+0200
TZNAME:CEST
END:DAYLIGHT
END:VTIMEZONE
END:VCALENDAR