BEGIN:VCALENDAR
VERSION:2.0
PRODID:-//wp-events-plugin.com//7.0.5//EN
TZID:Europe/Paris
X-WR-TIMEZONE:Europe/Paris
BEGIN:VEVENT
UID:3251@poussieredimage.com
DTSTART;TZID=Europe/Paris:20260221T100000
DTEND;TZID=Europe/Paris:20260221T180000
DTSTAMP:20260217T173258Z
URL:https://www.poussieredimage.com/events/atelier-drone-partie-pratique/
SUMMARY:Atelier Drone - Partie Pratique
DESCRIPTION:\n&nbsp\;\n\nAprès la théorie\, place à la pratique (mais av
 ec un peu de théorie quand même..) !\n\nS'envoyer en l'air en toute conv
 ivialité et sécurité\, voilà le programme de la journée ! Ah si\, j'a
 i oublié un détail\, on fait ça avec des drones... :D\n\nVous allez ain
 si pouvoir appréhender dans la bonne humeur le pilotage de drone dans des
  conditions réelles et de manière encadrée par une joyeuse équipe !!!\
 n\nInfos pratiques :\n\nPour les personnes qui souhaitent covoiturer\, ren
 dez-vous à 8h30 sur le parking Auchan de Balma Gramont côté Norauto.\n\
 nPour les personnes qui souhaitent venir directement sur place\, vous ête
 s attendues à 10h.\n\nPrévoir de quoi pique-niquer le midi\, des vêteme
 nts chauds\, une seconde paire de chaussures de randonnées ou confortable
 s mais de préférence imperméables\, des lunettes de soleil.\n\nLe lieu 
 vous sera communiqué ultérieurement.\n\nAfin de garantir la sécurité d
 e tou.te.s et de permettre à tout le monde de partager et de prendre du p
 laisir\, cet atelier est limité en nombres de participants.\n\nATTENTION 
 : Cet atelier est UNIQUEMENT réservé aux adhérents ayant déjà partici
 pé à la partie théorique !!!\n\nCet événement étant tributaire de la
  météo\, il est susceptible d'être reporté.
CATEGORIES:Activités exterieures,Cours/formations
LOCATION:A définir\, .\, Toulouse\, France
GEO:43.604846;1.442848
X-APPLE-STRUCTURED-LOCATION;VALUE=URI;X-ADDRESS=.\, Toulouse\, France;X-APP
 LE-RADIUS=100;X-TITLE=A définir:geo:43.604846,1.442848
END:VEVENT
BEGIN:VTIMEZONE
TZID:Europe/Paris
X-LIC-LOCATION:Europe/Paris
BEGIN:STANDARD
DTSTART:20251026T020000
TZOFFSETFROM:+0200
TZOFFSETTO:+0100
TZNAME:CET
END:STANDARD
END:VTIMEZONE
END:VCALENDAR