BEGIN:VCALENDAR
VERSION:2.0
PRODID:-//wp-events-plugin.com//7.0.5//EN
TZID:Europe/Paris
X-WR-TIMEZONE:Europe/Paris
BEGIN:VEVENT
UID:3212@poussieredimage.com
DTSTART;TZID=Europe/Paris:20260429T180000
DTEND;TZID=Europe/Paris:20260429T210000
DTSTAMP:20260416T051321Z
URL:https://www.poussieredimage.com/events/ateliers-sportifs-the-crease-%f
 0%9f%8f%92/
SUMMARY:Portraits sportifs - The Crease 🏒
DESCRIPTION:En cas d'annulation 48h avant l'atelier -  les  règlements s
 eront dus aux sportifs \nVenez capturez l'énergie et la puissance de vra
 is joueurs  de hockey\, en studio.\nDeux sets pour expérimenter :\n-  D
 es portraits vibrants et créatifs - Des portraits  dramatiques et contr
 astés\n&nbsp\;\n\n2 sets\n\n&nbsp\;\n\n2 joueurs de hockey (Quentin et Ju
 les)\nInscription : 20 € soit 10 € par modèle\n&nbsp\;\n\n&nbsp\;\n\n
 &nbsp\;
CATEGORIES:Atelier Studio
LOCATION:Studio Poussière d'image\, 99 Avenue de Muret\, Toulouse\, France
GEO:43.58369;1.426998
X-APPLE-STRUCTURED-LOCATION;VALUE=URI;X-ADDRESS=99 Avenue de Muret\, Toulou
 se\, France;X-APPLE-RADIUS=100;X-TITLE=Studio Poussière d'image:geo:43.58
 369,1.426998
END:VEVENT
BEGIN:VTIMEZONE
TZID:Europe/Paris
X-LIC-LOCATION:Europe/Paris
BEGIN:DAYLIGHT
DTSTART:20260329T030000
TZOFFSETFROM:+0100
TZOFFSETTO:+0200
TZNAME:CEST
END:DAYLIGHT
END:VTIMEZONE
END:VCALENDAR