BEGIN:VCALENDAR
VERSION:2.0
PRODID:-//wp-events-plugin.com//7.0.5//EN
TZID:Europe/Paris
X-WR-TIMEZONE:Europe/Paris
BEGIN:VEVENT
UID:2970@poussieredimage.com
DTSTART;TZID=Europe/Paris:20260309T200000
DTEND;TZID=Europe/Paris:20260309T220000
DTSTAMP:20260302T115107Z
URL:https://www.poussieredimage.com/events/carnet-de-voyage-6/
SUMMARY:CARNET DE VOYAGE ISLANDE
DESCRIPTION:\n\n\n\n\nCe 6ème carnet de voyage nous emmènera en ISLANDE. 
 Carnet inédit car il sera présenté à 3. Johanna\, Dominique et Christo
 phe vous emmènent au pays du feu et de la glace. Pensez à amener vos mou
 fles et votre bonnet 😉\n\n\n\nISLANDE : UNE AVENTURE À COMPTER\n\n\n\n
 \n\n\n 	1 route mythique faisant le tour de l’île\n 	2 temporalités : 
 4 mois d’exploration en solo\, puis 3 semaines en famille\n 	3 paires d
 ’yeux pour 3 regards sur une terre de contrastes\n 	4 roues pour travers
 er volcans\, glaciers et fjords\n 	5 zones aux paysages à couper le souff
 le\n 	6 thématiques pour raconter l’extraordinaire\n\n&nbsp\;\n\n\nDe l
 ’immersion estudiantine de Johanna au roadtrip familial\, découvrez l
 ’Islande comme vous ne l’avez jamais vue. Trois voyageurs\, deux expé
 riences\, un seul émerveillement à partager. Rejoignez-nous !\n\n\n\n\n\
 n\n\n\n\n\nLa soirée commencera à 20 heures à la Maison de la Citoyenne
 té Rive Gauche - Salle 1 - 20 place Jean Diebold\n\nUn moment convivial 
 vous sera proposé à la fin du carnet pour échanger et partager nos exp
 ériences autour d’un “pot de l’amitié”.\nInscriptions ouvertes j
 usqu’au 09 mars à 15h.  Merci de nous prévenir en cas d’empêcheme
 nt\, afin que nous puissions libérer votre place pour les personnes en li
 ste d’attente.\nPour toute question ou information\n\n\nBénédicte et P
 atrice : carnetvoyage@poussieredimage.com\n\n\n\n\n
CATEGORIES:Carnet de voyage
LOCATION:Maison de la Citoyenneté Rive Gauche - salle 1\, 20 place Jean Di
 ebold\, Toulouse\, France
GEO:43.597824;1.430128
X-APPLE-STRUCTURED-LOCATION;VALUE=URI;X-ADDRESS=20 place Jean Diebold\, Tou
 louse\, France;X-APPLE-RADIUS=100;X-TITLE=Maison de la Citoyenneté Rive G
 auche - salle 1:geo:43.597824,1.430128
END:VEVENT
BEGIN:VTIMEZONE
TZID:Europe/Paris
X-LIC-LOCATION:Europe/Paris
BEGIN:STANDARD
DTSTART:20251026T020000
TZOFFSETFROM:+0200
TZOFFSETTO:+0100
TZNAME:CET
END:STANDARD
END:VTIMEZONE
END:VCALENDAR