BEGIN:VCALENDAR
VERSION:2.0
PRODID:-//wp-events-plugin.com//7.0.5//EN
TZID:Europe/Paris
X-WR-TIMEZONE:Europe/Paris
BEGIN:VEVENT
UID:3206@poussieredimage.com
DTSTART;TZID=Europe/Paris:20260328T130000
DTEND;TZID=Europe/Paris:20260328T153000
DTSTAMP:20260328T074229Z
URL:https://www.poussieredimage.com/events/clair-obscur-13h-a-15h30-leijah
 -djamali/
SUMMARY:clair obscur - 13h à 15h30
DESCRIPTION:nombre de participants  : 8\n\ninscription : 20 € (10 €/mo
 dèle) *\n\nModèles : 2\n\n* l'atelier est maintenu pour minimum 4 inscri
 ts en revanche pour compenser les modèles  l'inscription sera de 15 €/
  modele.\n\nToute annulation le jour J\, le défraiement sera dû aux mod
 èles car nous ne pourrons pas vous remplacer 
CATEGORIES:Atelier Studio
LOCATION:Studio Poussière d'image\, 99 Avenue de Muret\, Toulouse\, France
GEO:43.58369;1.426998
X-APPLE-STRUCTURED-LOCATION;VALUE=URI;X-ADDRESS=99 Avenue de Muret\, Toulou
 se\, France;X-APPLE-RADIUS=100;X-TITLE=Studio Poussière d'image:geo:43.58
 369,1.426998
END:VEVENT
BEGIN:VTIMEZONE
TZID:Europe/Paris
X-LIC-LOCATION:Europe/Paris
BEGIN:STANDARD
DTSTART:20251026T020000
TZOFFSETFROM:+0200
TZOFFSETTO:+0100
TZNAME:CET
END:STANDARD
END:VTIMEZONE
END:VCALENDAR