BEGIN:VCALENDAR
VERSION:2.0
PRODID:-//wp-events-plugin.com//7.0.5//EN
TZID:Europe/Paris
X-WR-TIMEZONE:Europe/Paris
BEGIN:VEVENT
UID:3205@poussieredimage.com
DTSTART;TZID=Europe/Paris:20260304T194500
DTEND;TZID=Europe/Paris:20260304T221500
DTSTAMP:20260227T173009Z
URL:https://www.poussieredimage.com/events/cours-1-et-2-pratique-studio-19
 -h-45-a-22h-15-groupe-b/
SUMMARY:cours 1 et 2 - initiation studio 19 h 45 à 22h 15 groupe B
DESCRIPTION:inscriptions : 20 e (10 € / modèle)\n\npré requis : maîtri
 se de son boîtier\, s'assurer d'avoir la griffe porte flash .\n\ntoute an
 nulation le jour : le règlement aux modèles est dû car nous ne pourrons
  pas vous remplacer le jour J.\n\nModèles :\n\n \n\nProgramme :\n\nCours 
 1 :\n\nPrésentation matériel et règles de sécurité\n\nExercices manip
 ulation flashs\n\n&nbsp\;\n\nCours 2 :\n\nPartie 1 :\n\n4 sets de lumière
 s simple à travailler avec 1 modèle\n\nPartie 2 :\n\nPratique libre avec
  modèle 1 et 2 sur le temps restant.\n\nLes vidéos et les cours seront e
 nvoyés après validation de votre inscription.
CATEGORIES:Cours/formations
LOCATION:Studio Poussière d'image\, 99 Avenue de Muret\, Toulouse\, France
GEO:43.58369;1.426998
X-APPLE-STRUCTURED-LOCATION;VALUE=URI;X-ADDRESS=99 Avenue de Muret\, Toulou
 se\, France;X-APPLE-RADIUS=100;X-TITLE=Studio Poussière d'image:geo:43.58
 369,1.426998
END:VEVENT
BEGIN:VTIMEZONE
TZID:Europe/Paris
X-LIC-LOCATION:Europe/Paris
BEGIN:STANDARD
DTSTART:20251026T020000
TZOFFSETFROM:+0200
TZOFFSETTO:+0100
TZNAME:CET
END:STANDARD
END:VTIMEZONE
END:VCALENDAR