BEGIN:VCALENDAR
VERSION:2.0
PRODID:-//wp-events-plugin.com//7.0.5//EN
TZID:Europe/Paris
X-WR-TIMEZONE:Europe/Paris
BEGIN:VEVENT
UID:3008@poussieredimage.com
DTSTART;TZID=Europe/Paris:20260425T134500
DTEND;TZID=Europe/Paris:20260425T190000
DTSTAMP:20260226T191134Z
URL:https://www.poussieredimage.com/events/dans-les-pas-dun-photographe-ce
 lebre-8/
SUMMARY:« DANS LES PAS D’UN PHOTOGRAPHE CÉLÈBRE »
DESCRIPTION:« DANS LES PAS D’UN PHOTOGRAPHE CÉLÈBRE »\n \nLes anim
 ations « Dans les pas d’un photographe célèbre » reviennent cette an
 née 2025-2026\, toujours dans le même format et avec des nouveaux brilla
 nts photographes à découvrir ! \n4 séances auront lieu pendant cette sa
 ison\, pour les mois de décembre 2025\, février\, avril et juin 2026\, (
 avec une ouverture progressive).\nN'hésitez pas à vous inscrire!\n\n&nbs
 p\;\n\nNIVEAU :\n\nLes animations « Dans les pas » nécessitent un bon 
 niveau en Photo de rue. Elles s'adressent aux niveaux "intermédiaires" et
  "confirmés"\, c'est à dire des adhérents ayant une pratique régulièr
 e et confirmé de la photo de rue. \n\nDésormais\, dans l'esprit d'ouvrir
  ces animations au plus grande nombre\, vous pouvez aussi vous inscrire:\n
 \n-Si vous êtes nouveau adhérent à Poussière d'Image\, mais que vous p
 ratiquez ou êtes amateur de la photo de rue (moyennant un petit' question
 naire afin de confirmer votre niveau).\n\n-Si vous êtes débutant mais si
  au cours de l'année\,  vous réalisez quelques séances de nos sorties 
 "Street photo classiques" (présentes dans l'agenda).\n\n&nbsp\;\n\nOBJECT
 IFS :\n\nLes animations "Dans les pas d'un photographe célèbre"   ont 
 pour but\, le temps d’une sortie\, de se mettre dans les pas d’un phot
 ographe\, afin de comprendre sa manière de photographier\, d’évaluer e
 t comprendre sa pratique et approche. La finalité c’était d’acquéri
 r une culture photographique \; se frotter à une manière différente de 
 photographier \; sortir ainsi de sa zone de confort\, et améliorer par ce
  biais\, sa propre recherche personnelle.\n\n&nbsp\;\n\nFIL CONDUCTEUR DES
  SEANCES :\n\nL'exploration des différentes photographes gardera quand m
 ême un fil conducteur plus général\, qui permettra aux participants les
  plus assidus d'avoir à la fin\, une vision d'ensemble de la photo de rue
 .\n\nAu-delà de l'étude individuel d'un photographe\, c'est un voyage à
  travers les différents tendances\, techniques et concepts en photo de ru
 e que nous vous proposons de comprendre\, d'analyser\, et de pratiquer.\n\
 nAfin de conserver la surprise\, nous dévoilerons (le ou les) noms des ph
 otographes qui seront étudiés un peu avant la réalisation des séances.
 \n\n&nbsp\;\n\nDEROULEMENT DE L’ACTIVITÉ :\n\nIl s’agit des animation
 s alliant un cours théorique et un cours pratique en extérieur\, avec un
  débriefing\, en dernière partie.\n\nLa première partie de l’animatio
 n ou « théorique » consiste à un cours de 1 heure-1heure 30 environ\
 , que nous réaliserons dans les locaux de notre partenaire Etincelle Cowo
 rking\, avec le descriptif du photographe étudié\, expliquant sa proposi
 tion artistique\, sa démarche\, ses objectifs et sa technique. Le visionn
 age des photos permet de retracer l’historique du photographe afin de co
 mprendre son évolution photographique.\n\nEnsuite\, pour la partie « pra
 tique ou en extérieur »\, nous sortirons réaliser photos en ville : la
  prise des photos dans les rues permet de photographier dans « l’esprit
  » du photographe.\n\nEn dernier\, les photos résultantes seront projet
 ées et analysées lors d’un débriefing qui sera réalisé en fin d'apr
 ès-midi dans les mêmes locaux\, en échangeant avec les participants sur
  les difficultés rencontrées\, les apports obtenus et les connaissances 
 acquises.\n\nPour la partie pratique\, des « Streets photographes » toul
 ousains dont leur approche puisse être semblable aux photographes étudi
 és\, seront invités pour appuyer la partie « prises de photo en ville 
 » de l’animation.\n\n&nbsp\;\n\nHORAIRES ET LOCAUX:\n\nLes animations a
 uront lieu dans les locaux de notre partenaire Etincelle Coworking\, au 36
 \, rue Alsace Lorraine\, de 13h45 à 19h et pour sa bonne réalisation\, i
 l faut prévoir être présent durant tout ce créneau horaire.\n\n&nbsp\;
 \n\n&nbsp\;\nCrédits photo:  ©  Trent Park\, Sydney\, Australia\, 2002
 \n&nbsp\;\n\n&nbsp\;
ATTACH;FMTTYPE=image/jpeg:https://www.poussieredimage.com/wp-content/uploa
 ds/2025/09/Trent-Park-Sydney-Austtalia-2002.jpg
CATEGORIES:Divers
LOCATION:Étincelle Coworking\, 36\, rue Alsace Lorraine\, Toulouse\, 31000
 \, France
GEO:43.605498;1.445789
X-APPLE-STRUCTURED-LOCATION;VALUE=URI;X-ADDRESS=36\, rue Alsace Lorraine\, 
 Toulouse\, 31000\, France;X-APPLE-RADIUS=100;X-TITLE=Étincelle Coworking:
 geo:43.605498,1.445789
END:VEVENT
BEGIN:VTIMEZONE
TZID:Europe/Paris
X-LIC-LOCATION:Europe/Paris
BEGIN:DAYLIGHT
DTSTART:20260329T030000
TZOFFSETFROM:+0100
TZOFFSETTO:+0200
TZNAME:CEST
END:DAYLIGHT
END:VTIMEZONE
END:VCALENDAR