BEGIN:VCALENDAR
VERSION:2.0
PRODID:-//wp-events-plugin.com//7.0.5//EN
TZID:Europe/Paris
X-WR-TIMEZONE:Europe/Paris
BEGIN:VEVENT
UID:3009@poussieredimage.com
DTSTART;TZID=Europe/Paris:20260620T134500
DTEND;TZID=Europe/Paris:20260620T190000
DTSTAMP:20260226T191222Z
URL:https://www.poussieredimage.com/events/dans-les-pas-dun-photographe-ce
 lebre-9/
SUMMARY:« DANS LES PAS D’UN PHOTOGRAPHE CÉLÈBRE »
DESCRIPTION:« DANS LES PAS D’UN PHOTOGRAPHE CÉLÈBRE »\n \nLes anim
 ations « Dans les pas d’un photographe célèbre » reviennent cette an
 née 2025-2026\, toujours dans le même format et avec des nouveaux brilla
 nts photographes à découvrir ! \n4 séances auront lieu pendant cette sa
 ison\, pour les mois de décembre 2025\, février\, avril et juin 2026\, (
 avec une ouverture progressive).\nN'hésitez pas à vous inscrire!\n\n&nbs
 p\;\n\nNIVEAU :\n\nLes animations « Dans les pas » nécessitent un bon 
 niveau en Photo de rue. Elles s'adressent aux niveaux "intermédiaires" et
  "confirmés"\, c'est à dire des adhérents ayant une pratique régulièr
 e et confirmé de la photo de rue. \n\nDésormais\, dans l'esprit d'ouvrir
  ces animations au plus grande nombre\, vous pouvez aussi vous inscrire:\n
 \n-Si vous êtes nouveau adhérent à Poussière d'Image\, mais que vous p
 ratiquez ou êtes amateur de la photo de rue (moyennant un petit' question
 naire afin de confirmer votre niveau).\n\n-Si vous êtes débutant mais si
  au cours de l'année\,  vous réalisez quelques séances de nos sorties 
 "Street photo classiques" (présentes dans l'agenda).\n\nOBJECTIFS :\n\nLe
 s animations "Dans les pas d'un photographe célèbre"   ont pour but\, 
 le temps d’une sortie\, de se mettre dans les pas d’un photographe\, a
 fin de comprendre sa manière de photographier\, d’évaluer et comprendr
 e sa pratique et approche. La finalité c’était d’acquérir une cultu
 re photographique \; se frotter à une manière différente de photographi
 er \; sortir ainsi de sa zone de confort\, et améliorer par ce biais\, sa
  propre recherche personnelle.\n\n&nbsp\;\n\nFIL CONDUCTEUR DES SEANCES :\
 n\nL'exploration des différentes photographes gardera quand même un fil 
 conducteur plus général\, qui permettra aux participants les plus assidu
 s d'avoir à la fin\, une vision d'ensemble de la photo de rue.\n\nAu-del
 à de l'étude individuel d'un photographe\, c'est un voyage à travers le
 s différents tendances\, techniques et concepts en photo de rue que nous 
 vous proposons de comprendre\, d'analyser\, et de pratiquer.\n\nAfin de co
 nserver la surprise\, nous dévoilerons (le ou les) noms des photographes 
 qui seront étudiés un peu avant la réalisation des séances.\n\n&nbsp\;
 \n\nDEROULEMENT DE L’ACTIVITÉ :\n\nIl s’agit des animations alliant u
 n cours théorique et un cours pratique en extérieur\, avec un débriefin
 g\, en dernière partie.\n\nLa première partie de l’animation ou « th
 éorique » consiste à un cours de 1 heure-1heure 30 environ\, que nous 
 réaliserons dans les locaux de notre partenaire Etincelle Coworking\, ave
 c le descriptif du photographe étudié\, expliquant sa proposition artist
 ique\, sa démarche\, ses objectifs et sa technique. Le visionnage des pho
 tos permet de retracer l’historique du photographe afin de comprendre so
 n évolution photographique.\n\nEnsuite\, pour la partie « pratique ou en
  extérieur »\, nous sortirons réaliser photos en ville : la prise des 
 photos dans les rues permet de photographier dans « l’esprit » du phot
 ographe.\n\nEn dernier\, les photos résultantes seront projetées et anal
 ysées lors d’un débriefing qui sera réalisé en fin d'après-midi dan
 s les mêmes locaux\, en échangeant avec les participants sur les difficu
 ltés rencontrées\, les apports obtenus et les connaissances acquises.\n\
 nPour la partie pratique\, des « Streets photographes » toulousains dont
  leur approche puisse être semblable aux photographes étudiés\, seront 
 invités pour appuyer la partie « prises de photo en ville » de l’ani
 mation.\n\n&nbsp\;\n\nHORAIRES ET LOCAUX:\n\nLes animations auront lieu da
 ns les locaux de notre partenaire Etincelle Coworking\, au 36\, rue Alsace
  Lorraine\, de 13h45 à 19h et pour sa bonne réalisation\, il faut prévo
 ir être présent durant tout ce créneau horaire.\n\n&nbsp\;\nCrédits ph
 oto: © Jesse Marlow\, "Stop"\, Melbourne\, Australia\, 2011
ATTACH;FMTTYPE=image/jpeg:https://www.poussieredimage.com/wp-content/uploa
 ds/2025/09/images.jpeg
CATEGORIES:Divers
LOCATION:Étincelle Coworking\, 36\, rue Alsace Lorraine\, Toulouse\, 31000
 \, France
GEO:43.605498;1.445789
X-APPLE-STRUCTURED-LOCATION;VALUE=URI;X-ADDRESS=36\, rue Alsace Lorraine\, 
 Toulouse\, 31000\, France;X-APPLE-RADIUS=100;X-TITLE=Étincelle Coworking:
 geo:43.605498,1.445789
END:VEVENT
BEGIN:VTIMEZONE
TZID:Europe/Paris
X-LIC-LOCATION:Europe/Paris
BEGIN:DAYLIGHT
DTSTART:20260329T030000
TZOFFSETFROM:+0100
TZOFFSETTO:+0200
TZNAME:CEST
END:DAYLIGHT
END:VTIMEZONE
END:VCALENDAR