BEGIN:VCALENDAR
VERSION:2.0
PRODID:-//wp-events-plugin.com//7.0.5//EN
TZID:Europe/Paris
X-WR-TIMEZONE:Europe/Paris
BEGIN:VEVENT
UID:3285@poussieredimage.com
DTSTART;TZID=Europe/Paris:20260320T193000
DTEND;TZID=Europe/Paris:20260320T210000
DTSTAMP:20260308T225544Z
URL:https://www.poussieredimage.com/events/festival-de-guitare-daucamville
 -mauve-2/
SUMMARY:Festival de Guitare d'Aucamville - MAUVE
DESCRIPTION:Festival de Guitare d'Aucamville &amp\; du Nord Toulousain se d
 éroulera du 19 au 29 mars\nPoussière d'image dispose de 3 accréditation
 s (2 le 20 mars et une le 22 mars)\n\nVendredi 20 mars à Fonbeauzard – 
 MAUVE \n\n19h30 – Salle Clairefontaine\n\nOriginaire de la banlieue pari
 sienne\, Mauve a grandi entouré de paysages brumeux qui inspirent profo
 ndément ses compositions.\nAvec un style minimaliste et introspectif\, Ma
 uve mélange des éléments de folk et de rock alternatif.\nSa voix à la 
 fois douce et poignante raconte des histoires de solitude\, de vulnérabil
 ité\, d’amour perdu mais aussi d’espoir et de force. Ses influences s
 ’étendent de Billie Marten\, Beabadoobee\, November Ultra à Current Jo
 ys.\n\nBesoin : 1 photographe\n\nCondition : petite salle\, pas de possi
 bilité de déplacement arriver tôt pour prendre sa place\, appareil sile
 ncieux.\nPas de Flash\, pas de bruit\, pas d'écran gênant les spectateur
 s.\n\nMerci d'arriver au moins 1/2 heure avant le spectacle de 19H30 \, co
 ntacter Aude Rayssac et\, avec elle\,  vous positionner dans la salle \;-
 )\n\nLes photos seront à envoyer à Aude Rayssac : com.guitareaucamville@
 gmail.com\n... et pour PI à reportage.poussieredimag@gmail.com\n\nElles d
 evront être au format Web (1200 dans le plus grand coté) et doivent êtr
 e renommées sous la forme date(aaaammjj)_spectacle_photographe_n°.jpg\ne
 x 20260220_Mauve_6342.jpg\n\n&nbsp\;\n\nNoter qu'il y a aussi :\n\nVendred
 i 20 mars à Launaguet – IRINA GONZALEZ trio - 21h00 – Théâtre Moli
 ère\n\nDimanche 22 mars à Gratentour – DANGER ZOO  - 17h00 – Salle 
 L’Eclectik\n\n&nbsp\;\n\nMe contacter pour tout renseignement complémen
 taire : Georges Cier  gcier@free.fr\n\n&nbsp\;
CATEGORIES:Musique
LOCATION:Salle ClaireFontaine Fonbeauzard\, 28 Rue Jean Mermoz\,  Fonbeauza
 rd\, 31140\, France
GEO:43.682192;1.435449
X-APPLE-STRUCTURED-LOCATION;VALUE=URI;X-ADDRESS=28 Rue Jean Mermoz\,  Fonbe
 auzard\, 31140\, France;X-APPLE-RADIUS=100;X-TITLE=Salle ClaireFontaine Fo
 nbeauzard:geo:43.682192,1.435449
END:VEVENT
BEGIN:VTIMEZONE
TZID:Europe/Paris
X-LIC-LOCATION:Europe/Paris
BEGIN:STANDARD
DTSTART:20251026T020000
TZOFFSETFROM:+0200
TZOFFSETTO:+0100
TZNAME:CET
END:STANDARD
END:VTIMEZONE
END:VCALENDAR