BEGIN:VCALENDAR
VERSION:2.0
PRODID:-//wp-events-plugin.com//7.0.5//EN
TZID:Europe/Paris
X-WR-TIMEZONE:Europe/Paris
BEGIN:VEVENT
UID:3335@poussieredimage.com
DTSTART;TZID=Europe/Paris:20260514T203000
DTEND;TZID=Europe/Paris:20260514T214500
DTSTAMP:20260404T231203Z
URL:https://www.poussieredimage.com/events/feu-le-livre-avec-la-cie-du-b-b
 arre/
SUMMARY:"Feu le livre" avec la Cie du b barré
DESCRIPTION:La Cie Millimétrée du collectif CEM Culture en Mouvement pré
 sente :\n\n\nSamedi 14 mai à 20h30 \nArchives départementales de la Hau
 te-Garonne à Toulouse\nFEU LE LIVRE (sortie de création de la Cie du b b
 arré)\n\nAurélien Zolli\, comédien\, et Pierre E. Guérinet\, éditeur\
 , proposent de raconter les nouvelles formes de censure qui menacent aujo
 urd’hui les livres en France et dans le monde.\nA voir pour la première
  fois lors du Festival L'histoire à venir. Conférence gesticulée.\n\nB
 esoin : 1 photographe\nConditions : à préciser ultérieurement (durée 1
 h10)\n\n\nMe contacter pour tout renseignement complémentaire : Georges C
 ier  gcier@free.fr\n\nMerci de demander Aude Rayssac à votre arrivée\n\
 nLes photos devront être au format Web (2000 dans le plus grand coté)\ne
 t doivent être renommées sous la forme date(aaaammjj)_spectacle_photogra
 phe_n°.jpg\nex 20260514_Feu le livr_Jules Romain_6342.jpg\n\nElles seront
  à envoyer à Aude Rayssac pour la Cie millimétrée : cem.communication@
 gmail.com\n\n... et  à reportage.poussieredimag@gmail.com  pour PI\n\n
 &nbsp\;
CATEGORIES:Théâtre
LOCATION:Archives Départementales\, 11 bd Griffoul Dorval\, Toulouse\, 314
 00\, France
GEO:43.589788;1.460953
X-APPLE-STRUCTURED-LOCATION;VALUE=URI;X-ADDRESS=11 bd Griffoul Dorval\, Tou
 louse\, 31400\, France;X-APPLE-RADIUS=100;X-TITLE=Archives Départementale
 s:geo:43.589788,1.460953
END:VEVENT
BEGIN:VTIMEZONE
TZID:Europe/Paris
X-LIC-LOCATION:Europe/Paris
BEGIN:DAYLIGHT
DTSTART:20260329T030000
TZOFFSETFROM:+0100
TZOFFSETTO:+0200
TZNAME:CEST
END:DAYLIGHT
END:VTIMEZONE
END:VCALENDAR