BEGIN:VCALENDAR
VERSION:2.0
PRODID:-//wp-events-plugin.com//7.0.5//EN
TZID:Europe/Paris
X-WR-TIMEZONE:Europe/Paris
BEGIN:VEVENT
UID:3072@poussieredimage.com
DTSTART;TZID=Europe/Paris:20260502T170000
DTEND;TZID=Europe/Paris:20260502T220000
DTSTAMP:20251027T231400Z
URL:https://www.poussieredimage.com/events/foot-us-ours-de-toulouse-vs-les
 -grizzlys-catalans-de-perpignan/
SUMMARY:FOOT US - OURS de Toulouse vs LES GRIZZLYS CATALANS de Perpignan
DESCRIPTION:9ème journée du Championnat de France de FOOT US opposant les
  OURS de Toulouse aux GRIZZLYS CATALANS de Perpignan au Stade des Argoulet
 s\n\n18h : début de l'échauffement\n\n19h : match\n\nVenez découvrir ce
  sport spectaculaire\n\nPour assister au match en bord du terrain\, il fau
 t prendre une licence (assurance) au près de la FFFA  10€ sur HelloAss
 o\n\nRenseignements : Alain Garres - alaingarres@orange.fr - tél : 061533
 8597\n\nPhotos à envoyer à : alaingarres@orange.fr dans les 48h si possi
 ble\n\nSe munir d'un chasuble afin d'accéder au terrain..
CATEGORIES:Reportages,Sport
LOCATION:Stade des Argoulets\, 44 rue Louis Plana\, TOULOUSE\, 31500\, OCCI
 TANIE\, France
GEO:43.612894;1.482689
X-APPLE-STRUCTURED-LOCATION;VALUE=URI;X-ADDRESS=44 rue Louis Plana\, TOULOU
 SE\, 31500\, OCCITANIE\, France;X-APPLE-RADIUS=100;X-TITLE=Stade des Argou
 lets:geo:43.612894,1.482689
END:VEVENT
BEGIN:VTIMEZONE
TZID:Europe/Paris
X-LIC-LOCATION:Europe/Paris
BEGIN:DAYLIGHT
DTSTART:20260329T030000
TZOFFSETFROM:+0100
TZOFFSETTO:+0200
TZNAME:CEST
END:DAYLIGHT
END:VTIMEZONE
END:VCALENDAR