BEGIN:VCALENDAR
VERSION:2.0
PRODID:-//wp-events-plugin.com//7.0.5//EN
TZID:Europe/Paris
X-WR-TIMEZONE:Europe/Paris
BEGIN:VEVENT
UID:3241@poussieredimage.com
DTSTART;TZID=Europe/Paris:20260418T100000
DTEND;TZID=Europe/Paris:20260418T120000
DTSTAMP:20260415T160641Z
URL:https://www.poussieredimage.com/events/maquillage-close-up-edito-mag-g
 roupe-a/
SUMMARY:maquillage close up - Edito Mag Groupe A
DESCRIPTION:Les pré inscriptions sont ouvertes - Les confirmations d'inscr
 iptions seront validées 10 jours avant l'activité studio.\nen cas d'annu
 lation 48h avant l'atelier - le règlement sera dû \n&nbsp\;\n\n&nbsp\;\
 nMerci de lire ce qui suit (cf pré requis). Votre pré inscription ne ser
 a pas validée si vous disposez pas d'objectifs requis pour réaliser les 
 close up.\n&nbsp\;\n\n&nbsp\;\n\nNombre de participants 5 max\n\nModèle :
   Jade\n\n&nbsp\;\n\n\n\nMaquilleuse professionnelle  : Margaux\n\nPré 
 requis : maîtrise de son boîtier\n\nobjectif macro / objectif 70-200 imp
 ératif\n\navoir suivi l'atelier direction de modèle est un +\n\n&nbsp\;\
 n\ninscription 20€ (10 € modèle et 10 € maquilleuse)\n\nPlaces limi
 tées : 5\n\n&nbsp\;\n\n&nbsp\;
CATEGORIES:Atelier Studio
LOCATION:Studio Poussière d'image\, 99 Avenue de Muret\, Toulouse\, France
GEO:43.58369;1.426998
X-APPLE-STRUCTURED-LOCATION;VALUE=URI;X-ADDRESS=99 Avenue de Muret\, Toulou
 se\, France;X-APPLE-RADIUS=100;X-TITLE=Studio Poussière d'image:geo:43.58
 369,1.426998
END:VEVENT
BEGIN:VTIMEZONE
TZID:Europe/Paris
X-LIC-LOCATION:Europe/Paris
BEGIN:DAYLIGHT
DTSTART:20260329T030000
TZOFFSETFROM:+0100
TZOFFSETTO:+0200
TZNAME:CEST
END:DAYLIGHT
END:VTIMEZONE
END:VCALENDAR