BEGIN:VCALENDAR
VERSION:2.0
PRODID:-//wp-events-plugin.com//7.0.5//EN
TZID:Europe/Paris
X-WR-TIMEZONE:Europe/Paris
BEGIN:VEVENT
UID:3256@poussieredimage.com
DTSTART;TZID=Europe/Paris:20260420T180000
DTEND;TZID=Europe/Paris:20260420T210000
DTSTAMP:20260308T132541Z
URL:https://www.poussieredimage.com/events/moodboard-mode-demploi-partie-1
 -3h-2/
SUMMARY:Moodboard - mode d'emploi - partie 1 (3h)
DESCRIPTION:Vous avez des idées\, vous avez un projet  mais vos séances 
 photos ne reflètent pas ce que vous aviez en tête ? Vous créez des tabl
 eaux d'inspirations  mais ils ne vous aident pas vraiment dans  vos proj
 ets ? Ils ne sont pas aboutis et vous restez sur votre faim ? Les modèles
  ne sont pas intéressés par vos projets ? Avez - vous la bonne méthode 
 ?\nLors de cet atelier\, je vous propose de démystifier le moodboard et d
 ’apprendre à en faire un véritable outil de travail :\n\n\n 	poser des
  bases claires avant une  séance photos\n 	structurer vos idées\n 	comp
 rendre ce qui manque dans un moodboard inefficace et pourquoi ça ne fonct
 ionne pas\n\nDès la première partie de l'atelier vous serez capable de p
 oser vos idées\, de créer l'arborescence de votre projet.\nAtelier prati
 que\, accessible aux photographes débutants.Pas besoin d’être professi
 onnel\, il suffit d'être plus organisé :)\nMatériel  requis : pc porta
 ble\, tablette\, téléphone et de quoi noter\nLa partie 2 de cette format
 ion sera consacrée à de la pratique  (27 avril  2026)\n
CATEGORIES:Divers
LOCATION:Studio Poussière d'image\, 99 Avenue de Muret\, Toulouse\, France
GEO:43.58369;1.426998
X-APPLE-STRUCTURED-LOCATION;VALUE=URI;X-ADDRESS=99 Avenue de Muret\, Toulou
 se\, France;X-APPLE-RADIUS=100;X-TITLE=Studio Poussière d'image:geo:43.58
 369,1.426998
END:VEVENT
BEGIN:VTIMEZONE
TZID:Europe/Paris
X-LIC-LOCATION:Europe/Paris
BEGIN:DAYLIGHT
DTSTART:20260329T030000
TZOFFSETFROM:+0100
TZOFFSETTO:+0200
TZNAME:CEST
END:DAYLIGHT
END:VTIMEZONE
END:VCALENDAR