BEGIN:VCALENDAR
VERSION:2.0
PRODID:-//wp-events-plugin.com//7.0.5//EN
TZID:Europe/Paris
X-WR-TIMEZONE:Europe/Paris
BEGIN:VEVENT
UID:3331@poussieredimage.com
DTSTART;TZID=Europe/Paris:20260418T173000
DTEND;TZID=Europe/Paris:20260418T190000
DTSTAMP:20260403T193018Z
URL:https://www.poussieredimage.com/events/reportage-cirque-a-la-grainerie
 -13/
SUMMARY:Reportage cirque à la Grainerie
DESCRIPTION:La Grainerie\, située à Balma\, est une scène renommée pour
  les spectacles de cirques et son soutien à la création circassienne. La
  Grainerie est un partenaire de longue durée de Poussière d'images.\n&nb
 sp\;\n\nSamedi 18 avril 2026 à 17h30 (Patio devant la Grainerie\, Balma)\
 nTOP DOWN\nLA TRIOCHKA\n\n\nLa place qu’on prend et celle qu’on laisse
 .\n\nTopDown interroge les relations de domination et de soumission à l
 ’œuvre en entreprise ou au quotidien.\n\nDans un univers où les relati
 ons sont régies par les lois d’une hiérarchie restrictive\, la moindre
  brèche entraîne la possibilité d’un changement. Présenter une jambe
 \, tendre une main\, sourire\, deviennent des invitations à la prise de r
 isques qui emmène petit à petit les personnages dans un chemin inattendu
 \, une danse verticale à trois où la musique se fait l’écho de leurs 
 états d’esprits respectifs.\n\nDans le cadre du temps fort Créatrices 
 – Cirque en tout genre(s) .\n\n&nbsp\;\nLes reportages de cirque sont ou
 verts à tout.e photographe\, quelle que soit votre expérience. Un photog
 raphe de PI couvre ces événements. Il n'est donc pas possible de satisfa
 ire toutes les demandes...\nMais avant de vous engager vous devez prendre 
 en compte les spécificités. L'éclairage est faible alors que les sujets
  peuvent se déplacer rapidement. Il faut donc prévoir des objectifs lumi
 neux. Un appareil photo disposant d'un mode silencieux est fortement recom
 mandé. Si votre appareil n'est pas totalement silencieux vous serez limit
 és (pas de photo pendant les moments de silence\, ni de rafales intempest
 ives).\nPas de flash\, pas de pied\, pas de déplacement pendant le specta
 cle\,  ne pas activer le faisceau d’aide à l’autofocus\, éviter l
 ’écran lumineux (pour les spectateurs de derrière).\nRespecter le publ
 ic et les artistes (vous devez être très discret)\nBien lire la charte d
 u reportage (version 2023-2024):\nhttps://www.poussieredimage.com/wp-conte
 nt/uploads/2023/08/Saison-2023-2024-Charte.pdf\nEn vous inscrivant\, vous 
 vous engagez à être présent. D'une part pour respecter notre partenaire
 \, d'autre part parce que vous avez été retenu.e\, alors qu'il y avait p
 eut-être d'autre demande pour ce spectacle. Si néanmoins vous avez un im
 prévu de dernière minute\, merci de me prévenir le plus vite possible. 
 Parfois\, il est possible de trouver un remplaçant. \nVos photos seront e
 nvoyées signées dans le format que vous souhaitez (éviter un format tro
 p lourd\, 1800x1800 sur le plus large côté est un bon compromis) et reno
 mmées (ex. empaque_Benoit Joudiou_01.jpeg) à Clara Campoy : clara-campoy
 @la-grainerie.net\nMerci de mettre égalemeen copie reportage.poussieredim
 ag@gmail.com\nPour plus de renseignements  Benoît Joudiou : reportage.po
 ussieredimag@gmail.com\n&nbsp\;\n\n&nbsp\;
CATEGORIES:Art du cirque,Reportages
LOCATION:La Grainerie\, 61 rue  saint Jean\, Balma\, France
GEO:43.622733;1.486003
X-APPLE-STRUCTURED-LOCATION;VALUE=URI;X-ADDRESS=61 rue  saint Jean\, Balma\
 , France;X-APPLE-RADIUS=100;X-TITLE=La Grainerie:geo:43.622733,1.486003
END:VEVENT
BEGIN:VTIMEZONE
TZID:Europe/Paris
X-LIC-LOCATION:Europe/Paris
BEGIN:DAYLIGHT
DTSTART:20260329T030000
TZOFFSETFROM:+0100
TZOFFSETTO:+0200
TZNAME:CEST
END:DAYLIGHT
END:VTIMEZONE
END:VCALENDAR