BEGIN:VCALENDAR
VERSION:2.0
PRODID:-//wp-events-plugin.com//7.0.5//EN
TZID:Europe/Paris
X-WR-TIMEZONE:Europe/Paris
BEGIN:VEVENT
UID:3223@poussieredimage.com
DTSTART;TZID=Europe/Paris:20260430T203000
DTEND;TZID=Europe/Paris:20260430T233000
DTSTAMP:20260326T132741Z
URL:https://www.poussieredimage.com/events/soiree-discutons-photo-theme-fl
 oraison/
SUMMARY:Soirée "Discutons photo" thème : Floraison(s)
DESCRIPTION:Le printemps dit-on fait exploser la nature. Voici une séance 
 ou nous vous proposons de présenter votre « collecte » du printemps. 
 Que ce soit Macro\, paysage ou autres idées\, du moment que l’on « se
 nt » la nature et si possible son renouveau !
CATEGORIES:Analyse/Discutons Photo
LOCATION:Studio Poussière d'image\, 99 Avenue de Muret\, Toulouse\, France
GEO:43.58369;1.426998
X-APPLE-STRUCTURED-LOCATION;VALUE=URI;X-ADDRESS=99 Avenue de Muret\, Toulou
 se\, France;X-APPLE-RADIUS=100;X-TITLE=Studio Poussière d'image:geo:43.58
 369,1.426998
END:VEVENT
BEGIN:VTIMEZONE
TZID:Europe/Paris
X-LIC-LOCATION:Europe/Paris
BEGIN:DAYLIGHT
DTSTART:20260329T030000
TZOFFSETFROM:+0100
TZOFFSETTO:+0200
TZNAME:CEST
END:DAYLIGHT
END:VTIMEZONE
END:VCALENDAR